View In:
ArcGIS JavaScript
ArcGIS Online Map Viewer
ArcGIS Earth
ArcMap
View Footprint In:
ArcGIS Online Map Viewer
Service Description: Sentinel-2 10m land cover time series of the world. Produced by Impact Observatory, Microsoft, and Esri.
Name: Sentinel2_10m_LandCover
Description: Sentinel-2 10m land cover time series of the world. Produced by Impact Observatory, Microsoft, and Esri.
Single Fused Map Cache: false
Extent:
XMin: -179.99999999999997
YMin: -80.01341605354318
XMax: 180
YMax: 84.03260921900005
Spatial Reference: 4326
(4326)
Initial Extent:
XMin: -179.99999999999997
YMin: -80.01341605354318
XMax: 180
YMax: 84.03260921900005
Spatial Reference: 4326
(4326)
Full Extent:
XMin: -179.99999999999997
YMin: -80.01341605354318
XMax: 180
YMax: 84.03260921900005
Spatial Reference: 4326
(4326)
Time Info:
Start Time Field: StartDate
End Time Field: EndDate
Time Extent:
[2017/01/01 12:00:00 UTC, 2021/12/31 11:59:59 UTC]
Time Reference:
N/A
Pixel Size X: 8.983152098239751E-5
Pixel Size Y: 8.983152841195215E-5
Band Count: 1
Pixel Type: U8
RasterFunction Infos: {"rasterFunctionInfos": [
{
"name": "Cartographic Renderer - Legend and Attribute Table",
"description": "Legend and attribute table for Sentinel 2 10m Land Cover.",
"help": ""
},
{
"name": "Trees Only",
"description": "Shows only areas of trees (class 2).",
"help": ""
},
{
"name": "Built Areas Only",
"description": "Shows only built areas (class 7).",
"help": ""
},
{
"name": "Converted Lands Only",
"description": "Shows only built areas and crops (class 5 and 7).",
"help": ""
},
{
"name": "None",
"description": "A No-Op Function.",
"help": ""
}
]}
Mensuration Capabilities: Basic
Has Histograms: true
Has Colormap: false
Has Multi Dimensions : false
Rendering Rule:
Min Scale: 0
Max Scale: 0
Copyright Text: Impact Observatory, Microsoft, and Esri.
Service Data Type: esriImageServiceDataTypeThematic
Min Values: 1
Max Values: 11
Mean Values: 6.85892116182573
Standard Deviation Values: 3.9089658263099
Object ID Field: OBJECTID
Fields:
-
OBJECTID
(
type: esriFieldTypeOID, alias: OBJECTID
)
-
Shape
(
type: esriFieldTypeGeometry, alias: Shape
)
-
Name
(
type: esriFieldTypeString, alias: Name, length: 200
)
-
MinPS
(
type: esriFieldTypeDouble, alias: MinPS
)
-
MaxPS
(
type: esriFieldTypeDouble, alias: MaxPS
)
-
LowPS
(
type: esriFieldTypeDouble, alias: LowPS
)
-
HighPS
(
type: esriFieldTypeDouble, alias: HighPS
)
-
Category
(
type: esriFieldTypeInteger, alias: Category
, Coded Values:
[0: Unknown]
, [1: Primary]
, [2: Overview]
, ...6 more...
)
-
Tag
(
type: esriFieldTypeString, alias: Tag, length: 100
)
-
GroupName
(
type: esriFieldTypeString, alias: GroupName, length: 100
)
-
ProductName
(
type: esriFieldTypeString, alias: ProductName, length: 100
)
-
CenterX
(
type: esriFieldTypeDouble, alias: CenterX
)
-
CenterY
(
type: esriFieldTypeDouble, alias: CenterY
)
-
ZOrder
(
type: esriFieldTypeInteger, alias: ZOrder
)
-
Shape_Length
(
type: esriFieldTypeDouble, alias: Shape_Length
)
-
Shape_Area
(
type: esriFieldTypeDouble, alias: Shape_Area
)
-
Year
(
type: esriFieldTypeSmallInteger, alias: Image Year
)
-
StartDate
(
type: esriFieldTypeDate, alias: Start Date, length: 8
)
-
EndDate
(
type: esriFieldTypeDate, alias: End Date, length: 8
)
Default Mosaic Method: Northwest
Allowed Mosaic Methods: NorthWest,Center,LockRaster,ByAttribute,Nadir,Viewpoint,Seamline,None
SortField:
SortValue: null
Mosaic Operator: First
Default Compression Quality: 75
Default Resampling Method: Nearest
Max Record Count: 1000
Max Image Height: 30000
Max Image Width: 30000
Max Download Image Count: 20
Max Mosaic Image Count: 20
Allow Raster Function: true
Allow Copy: null
Allow Analysis: null
Allow Compute TiePoints: false
Supports Statistics: true
Supports Advanced Queries: true
Use StandardizedQueries: true
Raster Type Infos:
Name: Raster Dataset
Description: Supports all ArcGIS Raster Datasets
Help:
Has Raster Attribute Table: false
Edit Fields Info: null
Ownership Based AccessControl For Rasters: null
Child Resources:
Info
Histograms
Key Properties
Legend
Raster Function Infos
Supported Operations:
Export Image
Query
Identify
Measure
Compute Histograms
Compute Statistics Histograms
Get Samples
Compute Class Statistics
Query Boundary
Compute Pixel Location
Compute Angles
Validate
Project